BEGIN:VCALENDAR
VERSION:2.0
PRODID:-//Germanenzunft Benzingen e.V.//NONSGML kigkonsult.se iCalcreator 2
 .30.10//
CALSCALE:GREGORIAN
METHOD:PUBLISH
UID:4653abbf-0427-4087-a440-9412c687503b
X-WR-CALNAME:iCagenda
X-WR-CALDESC:Event Management Extension for Joomla!
X-WR-RELCALID:3E26604A-50F4-4449-8B3E-E4F4932D05B5
X-WR-TIMEZONE:UTC
BEGIN:VTIMEZONE
TZID:UTC
END:VTIMEZONE
BEGIN:VEVENT
UID:37dd78f4-fc6e-43a2-a556-47b108b2a7cf
DTSTAMP:20260420T084032Z
CATEGORIES:Umzüge
CLASS:PUBLIC
DESCRIPTION:
DTSTART:20250208T000000Z
DTEND:20250208T000000Z
GEO:00;0
LOCATION:Bisingen
ORGANIZER:
SEQUENCE:1
SUMMARY:Kinderringumzug Bisingen
TRANSP:OPAQUE
URL:https://germanenzunft.de/index.php/component/icagenda/8-kinderringumzug
 -bisingen/2025-02-08-00-00?Itemid=103
END:VEVENT
END:VCALENDAR
